BEGIN:VCALENDAR
VERSION:2.0
PRODID:-//Trachtenmusikkapelle Neumarkt am Wallersee - ECPv6.15.20//NONSGML v1.0//EN
CALSCALE:GREGORIAN
METHOD:PUBLISH
X-WR-CALNAME:Trachtenmusikkapelle Neumarkt am Wallersee
X-ORIGINAL-URL:https://www.tmk-neumarkt.at
X-WR-CALDESC:Veranstaltungen für Trachtenmusikkapelle Neumarkt am Wallersee
REFRESH-INTERVAL;VALUE=DURATION:PT1H
X-Robots-Tag:noindex
X-PUBLISHED-TTL:PT1H
BEGIN:VTIMEZONE
TZID:Europe/Vienna
BEGIN:DAYLIGHT
TZOFFSETFROM:+0100
TZOFFSETTO:+0200
TZNAME:CEST
DTSTART:20250330T010000
END:DAYLIGHT
BEGIN:STANDARD
TZOFFSETFROM:+0200
TZOFFSETTO:+0100
TZNAME:CET
DTSTART:20251026T010000
END:STANDARD
BEGIN:DAYLIGHT
TZOFFSETFROM:+0100
TZOFFSETTO:+0200
TZNAME:CEST
DTSTART:20260329T010000
END:DAYLIGHT
BEGIN:STANDARD
TZOFFSETFROM:+0200
TZOFFSETTO:+0100
TZNAME:CET
DTSTART:20261025T010000
END:STANDARD
BEGIN:DAYLIGHT
TZOFFSETFROM:+0100
TZOFFSETTO:+0200
TZNAME:CEST
DTSTART:20270328T010000
END:DAYLIGHT
BEGIN:STANDARD
TZOFFSETFROM:+0200
TZOFFSETTO:+0100
TZNAME:CET
DTSTART:20271031T010000
END:STANDARD
END:VTIMEZONE
BEGIN:VEVENT
DTSTART;TZID=Europe/Vienna:20260103T193000
DTEND;TZID=Europe/Vienna:20260103T220000
DTSTAMP:20260419T161919
CREATED:20241229T140048Z
LAST-MODIFIED:20241229T140048Z
UID:2957-1767468600-1767477600@www.tmk-neumarkt.at
SUMMARY:Jahresabschlussfeier
DESCRIPTION:
URL:https://www.tmk-neumarkt.at/veranstaltung/jahresabschlussfeier-5/
LOCATION:Haus der Vereine\, Siedlungsstraße 9a\, Neumarkt am Wallersee\, Salzburg\, 5202\, Österreich
CATEGORIES:Zivil
ORGANIZER;CN="TMK Neumarkt":MAILTO:info@tmk-neumarkt.at
END:VEVENT
END:VCALENDAR