BEGIN:VCALENDAR
VERSION:2.0
PRODID:-//Trachtenmusikkapelle Neumarkt am Wallersee - ECPv6.15.20//NONSGML v1.0//EN
CALSCALE:GREGORIAN
METHOD:PUBLISH
X-WR-CALNAME:Trachtenmusikkapelle Neumarkt am Wallersee
X-ORIGINAL-URL:https://www.tmk-neumarkt.at
X-WR-CALDESC:Veranstaltungen für Trachtenmusikkapelle Neumarkt am Wallersee
REFRESH-INTERVAL;VALUE=DURATION:PT1H
X-Robots-Tag:noindex
X-PUBLISHED-TTL:PT1H
BEGIN:VTIMEZONE
TZID:Europe/Vienna
BEGIN:DAYLIGHT
TZOFFSETFROM:+0100
TZOFFSETTO:+0200
TZNAME:CEST
DTSTART:20250330T010000
END:DAYLIGHT
BEGIN:STANDARD
TZOFFSETFROM:+0200
TZOFFSETTO:+0100
TZNAME:CET
DTSTART:20251026T010000
END:STANDARD
BEGIN:DAYLIGHT
TZOFFSETFROM:+0100
TZOFFSETTO:+0200
TZNAME:CEST
DTSTART:20260329T010000
END:DAYLIGHT
BEGIN:STANDARD
TZOFFSETFROM:+0200
TZOFFSETTO:+0100
TZNAME:CET
DTSTART:20261025T010000
END:STANDARD
BEGIN:DAYLIGHT
TZOFFSETFROM:+0100
TZOFFSETTO:+0200
TZNAME:CEST
DTSTART:20270328T010000
END:DAYLIGHT
BEGIN:STANDARD
TZOFFSETFROM:+0200
TZOFFSETTO:+0100
TZNAME:CET
DTSTART:20271031T010000
END:STANDARD
END:VTIMEZONE
BEGIN:VEVENT
DTSTART;TZID=Europe/Vienna:20261114T190000
DTEND;TZID=Europe/Vienna:20261114T210000
DTSTAMP:20260419T230812
CREATED:20260103T101820Z
LAST-MODIFIED:20260103T101820Z
UID:3095-1794682800-1794690000@www.tmk-neumarkt.at
SUMMARY:Kirchenkonzert
DESCRIPTION:
URL:https://www.tmk-neumarkt.at/veranstaltung/kirchenkonzert-6/
LOCATION:Stadtpfarrkirche Neumarkt
CATEGORIES:Tracht
ORGANIZER;CN="TMK Neumarkt":MAILTO:info@tmk-neumarkt.at
END:VEVENT
END:VCALENDAR