BEGIN:VCALENDAR
VERSION:2.0
PRODID:-//Trachtenmusikkapelle Neumarkt am Wallersee - ECPv6.15.20//NONSGML v1.0//EN
CALSCALE:GREGORIAN
METHOD:PUBLISH
X-WR-CALNAME:Trachtenmusikkapelle Neumarkt am Wallersee
X-ORIGINAL-URL:https://www.tmk-neumarkt.at
X-WR-CALDESC:Veranstaltungen für Trachtenmusikkapelle Neumarkt am Wallersee
REFRESH-INTERVAL;VALUE=DURATION:PT1H
X-Robots-Tag:noindex
X-PUBLISHED-TTL:PT1H
BEGIN:VTIMEZONE
TZID:Europe/Vienna
BEGIN:DAYLIGHT
TZOFFSETFROM:+0100
TZOFFSETTO:+0200
TZNAME:CEST
DTSTART:20240331T010000
END:DAYLIGHT
BEGIN:STANDARD
TZOFFSETFROM:+0200
TZOFFSETTO:+0100
TZNAME:CET
DTSTART:20241027T010000
END:STANDARD
BEGIN:DAYLIGHT
TZOFFSETFROM:+0100
TZOFFSETTO:+0200
TZNAME:CEST
DTSTART:20250330T010000
END:DAYLIGHT
BEGIN:STANDARD
TZOFFSETFROM:+0200
TZOFFSETTO:+0100
TZNAME:CET
DTSTART:20251026T010000
END:STANDARD
BEGIN:DAYLIGHT
TZOFFSETFROM:+0100
TZOFFSETTO:+0200
TZNAME:CEST
DTSTART:20260329T010000
END:DAYLIGHT
BEGIN:STANDARD
TZOFFSETFROM:+0200
TZOFFSETTO:+0100
TZNAME:CET
DTSTART:20261025T010000
END:STANDARD
BEGIN:DAYLIGHT
TZOFFSETFROM:+0100
TZOFFSETTO:+0200
TZNAME:CEST
DTSTART:20270328T010000
END:DAYLIGHT
BEGIN:STANDARD
TZOFFSETFROM:+0200
TZOFFSETTO:+0100
TZNAME:CET
DTSTART:20271031T010000
END:STANDARD
END:VTIMEZONE
BEGIN:VEVENT
DTSTART;TZID=Europe/Vienna:20260412T094500
DTEND;TZID=Europe/Vienna:20260412T130000
DTSTAMP:20260423T133925
CREATED:20251108T114712Z
LAST-MODIFIED:20251108T114712Z
UID:3054-1775987100-1775998800@www.tmk-neumarkt.at
SUMMARY:Floriani Pfongau
DESCRIPTION:
URL:https://www.tmk-neumarkt.at/veranstaltung/floriani-pfongau-4/
LOCATION:Zeugstätte FF Pfongau\, Pfongau 160\, Neumarkt am Wallersee\, Salzburg\, 5202\, Österreich
CATEGORIES:Tracht
END:VEVENT
BEGIN:VEVENT
DTSTART;TZID=Europe/Vienna:20260328T193000
DTEND;TZID=Europe/Vienna:20260328T220000
DTSTAMP:20260423T133925
CREATED:20251108T114614Z
LAST-MODIFIED:20251108T114614Z
UID:3052-1774726200-1774735200@www.tmk-neumarkt.at
SUMMARY:Frühjahrskonzert
DESCRIPTION:
URL:https://www.tmk-neumarkt.at/veranstaltung/fruehjahrskonzert-4/
LOCATION:Festsaal Neumarkt\, Siedlungsstraße 11\, Neumarkt am Wallersee\, Salzburg\, 5202\, Österreich
CATEGORIES:Tracht
ORGANIZER;CN="TMK Neumarkt":MAILTO:info@tmk-neumarkt.at
END:VEVENT
BEGIN:VEVENT
DTSTART;TZID=Europe/Vienna:20260328T090000
DTEND;TZID=Europe/Vienna:20260328T110000
DTSTAMP:20260423T133925
CREATED:20251108T114504Z
LAST-MODIFIED:20251108T114504Z
UID:3050-1774688400-1774695600@www.tmk-neumarkt.at
SUMMARY:Reinigungsaktion
DESCRIPTION:
URL:https://www.tmk-neumarkt.at/veranstaltung/reinigungsaktion/
LOCATION:Neumarkt am Wallersee
CATEGORIES:Zivil
ORGANIZER;CN="Stadtgemeinde Neumarkt":MAILTO:stadt@neumarkt.at
END:VEVENT
BEGIN:VEVENT
DTSTART;TZID=Europe/Vienna:20260315T120000
DTEND;TZID=Europe/Vienna:20260315T140000
DTSTAMP:20260423T133925
CREATED:20251107T170951Z
LAST-MODIFIED:20251107T170951Z
UID:3047-1773576000-1773583200@www.tmk-neumarkt.at
SUMMARY:Jahreshauptversammlung
DESCRIPTION:
URL:https://www.tmk-neumarkt.at/veranstaltung/jahreshauptversammlung/
CATEGORIES:Tracht
ORGANIZER;CN="TMK Neumarkt":MAILTO:info@tmk-neumarkt.at
END:VEVENT
BEGIN:VEVENT
DTSTART;TZID=Europe/Vienna:20260217T140000
DTEND;TZID=Europe/Vienna:20260217T160000
DTSTAMP:20260423T133925
CREATED:20251107T170801Z
LAST-MODIFIED:20251107T170801Z
UID:3045-1771336800-1771344000@www.tmk-neumarkt.at
SUMMARY:Faschingsumzug
DESCRIPTION:
URL:https://www.tmk-neumarkt.at/veranstaltung/faschingsumzug-7/
CATEGORIES:Verkleidung
ORGANIZER;CN="Stadtgemeinde Neumarkt":MAILTO:stadt@neumarkt.at
END:VEVENT
BEGIN:VEVENT
DTSTART;TZID=Europe/Vienna:20260103T193000
DTEND;TZID=Europe/Vienna:20260103T220000
DTSTAMP:20260423T133925
CREATED:20241229T140048Z
LAST-MODIFIED:20241229T140048Z
UID:2957-1767468600-1767477600@www.tmk-neumarkt.at
SUMMARY:Jahresabschlussfeier
DESCRIPTION:
URL:https://www.tmk-neumarkt.at/veranstaltung/jahresabschlussfeier-5/
LOCATION:Haus der Vereine\, Siedlungsstraße 9a\, Neumarkt am Wallersee\, Salzburg\, 5202\, Österreich
CATEGORIES:Zivil
ORGANIZER;CN="TMK Neumarkt":MAILTO:info@tmk-neumarkt.at
END:VEVENT
BEGIN:VEVENT
DTSTART;TZID=Europe/Vienna:20251129T190000
DTEND;TZID=Europe/Vienna:20251129T213000
DTSTAMP:20260423T133925
CREATED:20241012T050307Z
LAST-MODIFIED:20241012T050307Z
UID:2904-1764442800-1764451800@www.tmk-neumarkt.at
SUMMARY:Cäciliakirchenkonzert
DESCRIPTION:
URL:https://www.tmk-neumarkt.at/veranstaltung/caeciliakirchenkonzert-3/
LOCATION:Stadtpfarrkirche Neumarkt
CATEGORIES:Tracht
ORGANIZER;CN="TMK Neumarkt":MAILTO:info@tmk-neumarkt.at
END:VEVENT
BEGIN:VEVENT
DTSTART;TZID=Europe/Vienna:20251109T083000
DTEND;TZID=Europe/Vienna:20251109T110000
DTSTAMP:20260423T133925
CREATED:20241229T140004Z
LAST-MODIFIED:20241229T140004Z
UID:2955-1762677000-1762686000@www.tmk-neumarkt.at
SUMMARY:Totengedenken
DESCRIPTION:
URL:https://www.tmk-neumarkt.at/veranstaltung/totengedenken-9/
LOCATION:Stadtpfarrkirche Neumarkt
CATEGORIES:Tracht
END:VEVENT
BEGIN:VEVENT
DTSTART;TZID=Europe/Vienna:20251101T133000
DTEND;TZID=Europe/Vienna:20251101T150000
DTSTAMP:20260423T133925
CREATED:20241229T135911Z
LAST-MODIFIED:20241229T135911Z
UID:2953-1762003800-1762009200@www.tmk-neumarkt.at
SUMMARY:Allerheiligen
DESCRIPTION:
URL:https://www.tmk-neumarkt.at/veranstaltung/allerheiligen-10/
LOCATION:Stadtpfarrkirche Neumarkt
CATEGORIES:Tracht
ORGANIZER;CN="Stadtpfarre Neumarkt":MAILTO:pfarre.neumarkt@pfarre.kirchen.net
END:VEVENT
BEGIN:VEVENT
DTSTART;TZID=Europe/Vienna:20251025T100000
DTEND;TZID=Europe/Vienna:20251025T170000
DTSTAMP:20260423T133925
CREATED:20241229T135812Z
LAST-MODIFIED:20241229T135812Z
UID:2951-1761386400-1761411600@www.tmk-neumarkt.at
SUMMARY:Hochzeit Karina & Flo
DESCRIPTION:
URL:https://www.tmk-neumarkt.at/veranstaltung/hochzeit-karina-flo/
CATEGORIES:Tracht
ORGANIZER;CN="TMK Neumarkt":MAILTO:info@tmk-neumarkt.at
END:VEVENT
BEGIN:VEVENT
DTSTART;VALUE=DATE:20251019
DTEND;VALUE=DATE:20251020
DTSTAMP:20260423T133925
CREATED:20241229T135732Z
LAST-MODIFIED:20241229T135732Z
UID:2949-1760832000-1760918399@www.tmk-neumarkt.at
SUMMARY:Bundeskonzertwertung Innsbruck
DESCRIPTION:
URL:https://www.tmk-neumarkt.at/veranstaltung/bundeskonzertwertung-innsbruck-2/
CATEGORIES:Tracht
ORGANIZER;CN="TMK Neumarkt":MAILTO:info@tmk-neumarkt.at
END:VEVENT
BEGIN:VEVENT
DTSTART;VALUE=DATE:20251018
DTEND;VALUE=DATE:20251019
DTSTAMP:20260423T133925
CREATED:20241229T135652Z
LAST-MODIFIED:20241229T135652Z
UID:2947-1760745600-1760831999@www.tmk-neumarkt.at
SUMMARY:Bundeskonzertwertung Innsbruck
DESCRIPTION:
URL:https://www.tmk-neumarkt.at/veranstaltung/bundeskonzertwertung-innsbruck/
CATEGORIES:Tracht
ORGANIZER;CN="TMK Neumarkt":MAILTO:info@tmk-neumarkt.at
END:VEVENT
BEGIN:VEVENT
DTSTART;TZID=Europe/Vienna:20251005T091500
DTEND;TZID=Europe/Vienna:20251005T110000
DTSTAMP:20260423T133925
CREATED:20241229T135611Z
LAST-MODIFIED:20241229T135611Z
UID:2945-1759655700-1759662000@www.tmk-neumarkt.at
SUMMARY:Erntedank
DESCRIPTION:
URL:https://www.tmk-neumarkt.at/veranstaltung/erntedank-8/
CATEGORIES:Tracht
ORGANIZER;CN="Stadtpfarre Neumarkt":MAILTO:pfarre.neumarkt@pfarre.kirchen.net
END:VEVENT
BEGIN:VEVENT
DTSTART;TZID=Europe/Vienna:20250920T130000
DTEND;TZID=Europe/Vienna:20250920T160000
DTSTAMP:20260423T133925
CREATED:20241229T135514Z
LAST-MODIFIED:20241229T135514Z
UID:2943-1758373200-1758384000@www.tmk-neumarkt.at
SUMMARY:Rupertistadtfest
DESCRIPTION:
URL:https://www.tmk-neumarkt.at/veranstaltung/rupertistadtfest-9/
LOCATION:Neumarkt am Wallersee
CATEGORIES:Tracht
END:VEVENT
BEGIN:VEVENT
DTSTART;TZID=Europe/Vienna:20250720T094500
DTEND;TZID=Europe/Vienna:20250720T130000
DTSTAMP:20260423T133925
CREATED:20241229T135423Z
LAST-MODIFIED:20241229T135423Z
UID:2941-1753004700-1753016400@www.tmk-neumarkt.at
SUMMARY:Floriani Neufahrn
DESCRIPTION:
URL:https://www.tmk-neumarkt.at/veranstaltung/floriani-neufahrn-3/
LOCATION:Zeugstätte FF Neufahrn\, Neufahrn 17\, Neumarkt am Wallersee\, Salzburg\, 5202\, Österreich
CATEGORIES:Tracht
END:VEVENT
BEGIN:VEVENT
DTSTART;TZID=Europe/Vienna:20250713T103000
DTEND;TZID=Europe/Vienna:20250713T130000
DTSTAMP:20260423T133925
CREATED:20250709T031341Z
LAST-MODIFIED:20250709T031341Z
UID:3040-1752402600-1752411600@www.tmk-neumarkt.at
SUMMARY:Bezirksmusikfest Geretsberg
DESCRIPTION:
URL:https://www.tmk-neumarkt.at/veranstaltung/bezirksmusikfest-geretsberg/
CATEGORIES:Tracht
END:VEVENT
BEGIN:VEVENT
DTSTART;TZID=Europe/Vienna:20250710T083000
DTEND;TZID=Europe/Vienna:20250710T120000
DTSTAMP:20260423T133925
CREATED:20250709T031133Z
LAST-MODIFIED:20250709T031133Z
UID:3038-1752136200-1752148800@www.tmk-neumarkt.at
SUMMARY:Ferienkalender
DESCRIPTION:
URL:https://www.tmk-neumarkt.at/veranstaltung/ferienkalender-7/
LOCATION:Haus der Vereine\, Siedlungsstraße 9a\, Neumarkt am Wallersee\, Salzburg\, 5202\, Österreich
CATEGORIES:Zivil
ORGANIZER;CN="Stadtgemeinde Neumarkt":MAILTO:stadt@neumarkt.at
END:VEVENT
BEGIN:VEVENT
DTSTART;TZID=Europe/Vienna:20250706T100000
DTEND;TZID=Europe/Vienna:20250706T150000
DTSTAMP:20260423T133925
CREATED:20241012T050112Z
LAST-MODIFIED:20241012T050112Z
UID:2900-1751796000-1751814000@www.tmk-neumarkt.at
SUMMARY:Frühschoppen / Gartenfest
DESCRIPTION:
URL:https://www.tmk-neumarkt.at/veranstaltung/fruehschoppen-gartenfest-7/
LOCATION:Haus der Vereine\, Siedlungsstraße 9a\, Neumarkt am Wallersee\, Salzburg\, 5202\, Österreich
CATEGORIES:Zivil
ORGANIZER;CN="TMK Neumarkt":MAILTO:info@tmk-neumarkt.at
END:VEVENT
BEGIN:VEVENT
DTSTART;TZID=Europe/Vienna:20250622T094500
DTEND;TZID=Europe/Vienna:20250622T130000
DTSTAMP:20260423T133925
CREATED:20241229T135330Z
LAST-MODIFIED:20241229T135330Z
UID:2939-1750585500-1750597200@www.tmk-neumarkt.at
SUMMARY:Floriani Sighartstein
DESCRIPTION:
URL:https://www.tmk-neumarkt.at/veranstaltung/floriani-sighartstein-3/
LOCATION:Zeugstätte FF Sighartstein\, Sighartstein 13\, Neumarkt am Wallersee\, Salzburg\, 5202\, Österreich
CATEGORIES:Tracht
END:VEVENT
BEGIN:VEVENT
DTSTART;TZID=Europe/Vienna:20250619T084500
DTEND;TZID=Europe/Vienna:20250619T110000
DTSTAMP:20260423T133925
CREATED:20241229T135246Z
LAST-MODIFIED:20241229T135246Z
UID:2937-1750322700-1750330800@www.tmk-neumarkt.at
SUMMARY:Fronleichnam
DESCRIPTION:
URL:https://www.tmk-neumarkt.at/veranstaltung/fronleichnam-9/
LOCATION:Stadtpfarrkirche Neumarkt
CATEGORIES:Tracht
ORGANIZER;CN="Stadtpfarre Neumarkt":MAILTO:pfarre.neumarkt@pfarre.kirchen.net
END:VEVENT
BEGIN:VEVENT
DTSTART;TZID=Europe/Vienna:20250614T170000
DTEND;TZID=Europe/Vienna:20250614T200000
DTSTAMP:20260423T133925
CREATED:20241229T135135Z
LAST-MODIFIED:20241229T135135Z
UID:2935-1749920400-1749931200@www.tmk-neumarkt.at
SUMMARY:Bezirksmusikfest Michaelbeuern
DESCRIPTION:
URL:https://www.tmk-neumarkt.at/veranstaltung/bezirksmusikfest-michaelbeuern/
CATEGORIES:Tracht
END:VEVENT
BEGIN:VEVENT
DTSTART;TZID=Europe/Vienna:20250614T120000
DTEND;TZID=Europe/Vienna:20250614T140000
DTSTAMP:20260423T133925
CREATED:20241229T135059Z
LAST-MODIFIED:20241229T135059Z
UID:2933-1749902400-1749909600@www.tmk-neumarkt.at
SUMMARY:Marschwertung Leogang
DESCRIPTION:
URL:https://www.tmk-neumarkt.at/veranstaltung/marschwertung-leogang/
CATEGORIES:Tracht
END:VEVENT
BEGIN:VEVENT
DTSTART;TZID=Europe/Vienna:20250601T090000
DTEND;TZID=Europe/Vienna:20250601T120000
DTSTAMP:20260423T133925
CREATED:20241229T134949Z
LAST-MODIFIED:20241229T134949Z
UID:2929-1748768400-1748779200@www.tmk-neumarkt.at
SUMMARY:Musifest Oberndorf
DESCRIPTION:
URL:https://www.tmk-neumarkt.at/veranstaltung/musifest-oberndorf/
CATEGORIES:Tracht
END:VEVENT
BEGIN:VEVENT
DTSTART;TZID=Europe/Vienna:20250525T090000
DTEND;TZID=Europe/Vienna:20250525T120000
DTSTAMP:20260423T133925
CREATED:20241229T134917Z
LAST-MODIFIED:20241229T134917Z
UID:2927-1748163600-1748174400@www.tmk-neumarkt.at
SUMMARY:Musifest Mattsee
DESCRIPTION:
URL:https://www.tmk-neumarkt.at/veranstaltung/musifest-mattsee/
CATEGORIES:Tracht
END:VEVENT
BEGIN:VEVENT
DTSTART;TZID=Europe/Vienna:20250517T170000
DTEND;TZID=Europe/Vienna:20250517T200000
DTSTAMP:20260423T133925
CREATED:20241229T134841Z
LAST-MODIFIED:20241229T134841Z
UID:2925-1747501200-1747512000@www.tmk-neumarkt.at
SUMMARY:Musifest Ebenau
DESCRIPTION:
URL:https://www.tmk-neumarkt.at/veranstaltung/musifest-ebenau/
CATEGORIES:Tracht
END:VEVENT
BEGIN:VEVENT
DTSTART;TZID=Europe/Vienna:20250510T130000
DTEND;TZID=Europe/Vienna:20250510T170000
DTSTAMP:20260423T133925
CREATED:20241229T134744Z
LAST-MODIFIED:20241229T134744Z
UID:2923-1746882000-1746896400@www.tmk-neumarkt.at
SUMMARY:Hochzeit Alex & Flo
DESCRIPTION:
URL:https://www.tmk-neumarkt.at/veranstaltung/hochzeit-alex-flo/
CATEGORIES:Tracht
END:VEVENT
BEGIN:VEVENT
DTSTART;TZID=Europe/Vienna:20250501T081500
DTEND;TZID=Europe/Vienna:20250501T120000
DTSTAMP:20260423T133925
CREATED:20241229T134656Z
LAST-MODIFIED:20241229T134656Z
UID:2921-1746087300-1746100800@www.tmk-neumarkt.at
SUMMARY:Floriani Neumarkt
DESCRIPTION:
URL:https://www.tmk-neumarkt.at/veranstaltung/floriani-neumarkt-3/
LOCATION:Gasthof Gerbl\, Hauptstraße 28\, Neumarkt am Wallersee\, Salzburg\, 5202\, Österreich
CATEGORIES:Tracht
ORGANIZER;CN="FF Neumarkt":MAILTO:ff-neumarkt@lfv-sbg.at
END:VEVENT
BEGIN:VEVENT
DTSTART;TZID=Europe/Vienna:20250427T124500
DTEND;TZID=Europe/Vienna:20250427T150000
DTSTAMP:20260423T133925
CREATED:20241229T134338Z
LAST-MODIFIED:20241229T134338Z
UID:2917-1745757900-1745766000@www.tmk-neumarkt.at
SUMMARY:Georgiritt Ausweichtermin
DESCRIPTION:
URL:https://www.tmk-neumarkt.at/veranstaltung/georgiritt-ausweichtermin-3/
LOCATION:Kirche Sommerholz\, Österreich
CATEGORIES:Tracht
END:VEVENT
BEGIN:VEVENT
DTSTART;TZID=Europe/Vienna:20250427T094500
DTEND;TZID=Europe/Vienna:20250427T130000
DTSTAMP:20260423T133925
CREATED:20241229T134509Z
LAST-MODIFIED:20241229T134509Z
UID:2919-1745747100-1745758800@www.tmk-neumarkt.at
SUMMARY:Floriani Pfongau
DESCRIPTION:
URL:https://www.tmk-neumarkt.at/veranstaltung/floriani-pfongau-3/
LOCATION:Zeugstätte FF Pfongau\, Pfongau 160\, Neumarkt am Wallersee\, Salzburg\, 5202\, Österreich
CATEGORIES:Tracht
END:VEVENT
BEGIN:VEVENT
DTSTART;TZID=Europe/Vienna:20250421T124500
DTEND;TZID=Europe/Vienna:20250421T150000
DTSTAMP:20260423T133925
CREATED:20241229T134116Z
LAST-MODIFIED:20250323T164626Z
UID:2915-1745239500-1745247600@www.tmk-neumarkt.at
SUMMARY:Georgiritt
DESCRIPTION:
URL:https://www.tmk-neumarkt.at/veranstaltung/georgiritt-3/
LOCATION:Kirche Sommerholz\, Österreich
CATEGORIES:Tracht
END:VEVENT
END:VCALENDAR