BEGIN:VCALENDAR
VERSION:2.0
PRODID:-//Trachtenmusikkapelle Neumarkt am Wallersee - ECPv6.15.20//NONSGML v1.0//EN
CALSCALE:GREGORIAN
METHOD:PUBLISH
X-ORIGINAL-URL:https://www.tmk-neumarkt.at
X-WR-CALDESC:Veranstaltungen für Trachtenmusikkapelle Neumarkt am Wallersee
REFRESH-INTERVAL;VALUE=DURATION:PT1H
X-Robots-Tag:noindex
X-PUBLISHED-TTL:PT1H
BEGIN:VTIMEZONE
TZID:Europe/Vienna
BEGIN:DAYLIGHT
TZOFFSETFROM:+0100
TZOFFSETTO:+0200
TZNAME:CEST
DTSTART:20250330T010000
END:DAYLIGHT
BEGIN:STANDARD
TZOFFSETFROM:+0200
TZOFFSETTO:+0100
TZNAME:CET
DTSTART:20251026T010000
END:STANDARD
BEGIN:DAYLIGHT
TZOFFSETFROM:+0100
TZOFFSETTO:+0200
TZNAME:CEST
DTSTART:20260329T010000
END:DAYLIGHT
BEGIN:STANDARD
TZOFFSETFROM:+0200
TZOFFSETTO:+0100
TZNAME:CET
DTSTART:20261025T010000
END:STANDARD
BEGIN:DAYLIGHT
TZOFFSETFROM:+0100
TZOFFSETTO:+0200
TZNAME:CEST
DTSTART:20270328T010000
END:DAYLIGHT
BEGIN:STANDARD
TZOFFSETFROM:+0200
TZOFFSETTO:+0100
TZNAME:CET
DTSTART:20271031T010000
END:STANDARD
END:VTIMEZONE
BEGIN:VEVENT
DTSTART;TZID=Europe/Vienna:20260711T200000
DTEND;TZID=Europe/Vienna:20260711T220000
DTSTAMP:20260419T154038
CREATED:20260103T100722Z
LAST-MODIFIED:20260103T100722Z
UID:3077-1783800000-1783807200@www.tmk-neumarkt.at
SUMMARY:Sommernachtskonzert
DESCRIPTION:
URL:https://www.tmk-neumarkt.at/veranstaltung/sommernachtskonzert-2/
LOCATION:Festsaal Neumarkt\, Siedlungsstraße 11\, Neumarkt am Wallersee\, Salzburg\, 5202\, Österreich
CATEGORIES:Tracht
ORGANIZER;CN="TMK Neumarkt":MAILTO:info@tmk-neumarkt.at
END:VEVENT
BEGIN:VEVENT
DTSTART;TZID=Europe/Vienna:20260712T100000
DTEND;TZID=Europe/Vienna:20260712T150000
DTSTAMP:20260419T154038
CREATED:20260103T100957Z
LAST-MODIFIED:20260103T100957Z
UID:3079-1783850400-1783868400@www.tmk-neumarkt.at
SUMMARY:Frühschoppen
DESCRIPTION:
URL:https://www.tmk-neumarkt.at/veranstaltung/fruehschoppen/
LOCATION:Haus der Vereine\, Siedlungsstraße 9a\, Neumarkt am Wallersee\, Salzburg\, 5202\, Österreich
CATEGORIES:Zivil
ORGANIZER;CN="TMK Neumarkt":MAILTO:info@tmk-neumarkt.at
END:VEVENT
BEGIN:VEVENT
DTSTART;TZID=Europe/Vienna:20260719T094500
DTEND;TZID=Europe/Vienna:20260719T130000
DTSTAMP:20260419T154038
CREATED:20260103T101117Z
LAST-MODIFIED:20260103T101117Z
UID:3081-1784454300-1784466000@www.tmk-neumarkt.at
SUMMARY:Floriani Neufahrn
DESCRIPTION:
URL:https://www.tmk-neumarkt.at/veranstaltung/floriani-neufahrn-4/
LOCATION:Zeugstätte FF Neufahrn\, Neufahrn 17\, Neumarkt am Wallersee\, Salzburg\, 5202\, Österreich
CATEGORIES:Tracht
END:VEVENT
END:VCALENDAR